BEGIN:VCALENDAR
VERSION:2.0
PRODID:-//Sandymount Dodder Wheelers - ECPv6.15.20//NONSGML v1.0//EN
CALSCALE:GREGORIAN
METHOD:PUBLISH
X-WR-CALNAME:Sandymount Dodder Wheelers
X-ORIGINAL-URL:https://www.sandymountdodderwheelers.ie
X-WR-CALDESC:Events for Sandymount Dodder Wheelers
REFRESH-INTERVAL;VALUE=DURATION:PT1H
X-Robots-Tag:noindex
X-PUBLISHED-TTL:PT1H
BEGIN:VTIMEZONE
TZID:UTC
BEGIN:STANDARD
TZOFFSETFROM:+0000
TZOFFSETTO:+0000
TZNAME:UTC
DTSTART:20230101T000000
END:STANDARD
END:VTIMEZONE
BEGIN:VEVENT
DTSTART;VALUE=DATE:20240908
DTEND;VALUE=DATE:20240909
DTSTAMP:20260422T081646
CREATED:20240725T144634Z
LAST-MODIFIED:20240806T092347Z
UID:1082-1725753600-1725839999@www.sandymountdodderwheelers.ie
SUMMARY:SDW Charity Cycle : 2024
DESCRIPTION:DONATE HERE\n			\n				\n				\n				\n				\n				This year our annual charity cycle will be in aid of the Irish Cancer Society. In July of 2024 the club also had the privilege of bringing on a new club sponsor; Movement Fitness and as part of this new partnership the event will leave from their premises on the Sean O’Moore Road. We will have two routes this year\, 60km\, sets off circa 11:00am and will split into groups depending on numbers. The 125km group is setting off @8:00am. \n60k Route : https://www.strava.com/routes/3251982971024738214 \n125k Route : https://www.strava.com/routes/3251985484525654950 \nBoth cycles will finish at O’Reilly’s Pub in Sandymount. There will also be refreshments available and somewhere to store your bike safely from 3:00pm onwards. All those wishing to DONATE to this worth cause\, the club would be extremely grateful. In addition\, please add your name to the shared sheets for your preferred route. \nINTERESTED IN TAKING PART? ADD YOUR NAME TO THE WEEKLY SPIN SHEET
URL:https://www.sandymountdodderwheelers.ie/event/autumn-charity-cycle/
LOCATION:Movement Fitness\, Clanna Gael Fontenoy GAA Club\, Sean O'Moore Road\, Dublin\, D04 E285\, Ireland
CATEGORIES:Leinster
ATTACH;FMTTYPE=image/png:https://www.sandymountdodderwheelers.ie/wp-content/uploads/2024/07/ICS.png
ORGANIZER;CN="Sandymount Dodder Wheelers":MAILTO:info@sandymountdodderwheelers.ie
END:VEVENT
END:VCALENDAR